BEGIN:VCALENDAR
VERSION:2.0
PRODID:-//ChamberMaster//Event Calendar 2.0//EN
METHOD:PUBLISH
X-PUBLISHED-TTL:P1H
REFRESH-INTERVAL:P1H
CALSCALE:GREGORIAN
BEGIN:VTIMEZONE
TZID:America/Los_Angeles
BEGIN:DAYLIGHT
RRULE:FREQ=YEARLY;BYMONTH=3;BYDAY=2SU
DTSTART:20070101T000000
TZOFFSETFROM:-0800
TZOFFSETTO:-0700
TZNAME:Pacific Daylight Time
END:DAYLIGHT
BEGIN:STANDARD
RRULE:FREQ=YEARLY;BYMONTH=11;BYDAY=1SU
DTSTART:20070101T000000
TZOFFSETFROM:-0700
TZOFFSETTO:-0800
TZNAME:Pacific Standard Time
END:STANDARD
END:VTIMEZONE
BEGIN:VEVENT
DTSTART;TZID=America/Los_Angeles:20260520T080000
DTEND;TZID=America/Los_Angeles:20260520T140000
X-MICROSOFT-CDO-ALLDAYEVENT:FALSE
SUMMARY:May 2026 Fontana Chamber - Job Fair (Employers/Resources)
DESCRIPTION:Are you looking for your next great employee? Do you have a great resource to share with our local workforce? Come join us for our May Job Fair at the Cypress Neighborhood Community Center! All Employers must bring their own tables. Chairs will be provided.
X-ALT-DESC;FMTTYPE=text/html:<!DOCTYPE html><html><head><title></title></head><body aria-disabled="false"><p>Are you looking for your next great employee? Do you have a great resource to share with our local workforce? Come join us for our May Job Fair at the Cypress Neighborhood Community Center! All Employers must bring their own tables. Chairs will be provided.</p></body></html>
LOCATION:8380 Cypress Ave\, Fontana\, CA 92335
UID:e.2726.1448267
SEQUENCE:3
DTSTAMP:20260423T164005Z
URL:https://business.fontanachamber.org/chambercalendar/Details/may-2026-fontana-chamber-job-fair-employers-resources-1715268?sourceTypeId=Hub
END:VEVENT
END:VCALENDAR
